BEGIN:VCALENDAR
VERSION:2.0
PRODID:-//ChamberMaster//Event Calendar 2.0//EN
METHOD:PUBLISH
X-PUBLISHED-TTL:P3D
REFRESH-INTERVAL:P3D
CALSCALE:GREGORIAN
BEGIN:VEVENT
DTSTART:20260424T143000Z
DTEND:20260424T153000Z
X-MICROSOFT-CDO-ALLDAYEVENT:FALSE
SUMMARY:The Economy of the Greater MetroWest Region in Context - MERC Presentation during MetroWest Startup Week
DESCRIPTION:The MetroWest Economic Research Center will present on the economy of the Greater MetroWest region. It will share research and insights. merc-fsu.org
X-ALT-DESC;FMTTYPE=text/html:<span style="color:rgb(0\, 0\, 0)\; font-family:dm sans\,helvetica\,arial\,sans-serif\; font-size:18.6667px">The MetroWest Economic Research Center will present on the economy of the Greater MetroWest region. It will share research and insights.&nbsp\;</span><a href="https://merc-fsu.org/" rel="noopener" style="line-height: 1.4em\; text-decoration: none\; color: rgb(44\, 46\, 53)\; font-family: &quot\;DM Sans&quot\;\, helvetica\, arial\, sans-serif\; font-size: 18.6667px\;" target="_blank">merc-fsu.org</a>
LOCATION:McCarthy Center Room 520 100 State St\, Framingham MA 01701
UID:e.1291.11766
SEQUENCE:3
DTSTAMP:20260424T154100Z
URL:https://business.metrowest.org/events/details/the-economy-of-the-greater-metrowest-region-in-context-merc-presentation-during-metrowest-startup-week-11766
END:VEVENT

END:VCALENDAR
