BEGIN:VCALENDAR
VERSION:2.0
PRODID:-//ChamberMaster//Event Calendar 2.0//EN
METHOD:PUBLISH
X-PUBLISHED-TTL:P3D
REFRESH-INTERVAL:P3D
CALSCALE:GREGORIAN
BEGIN:VEVENT
DTSTART:20260427T173000Z
DTEND:20260427T183000Z
X-MICROSOFT-CDO-ALLDAYEVENT:FALSE
SUMMARY:Reimagining Food Systems: Opening Keynote Address for MetroWest Startup Week
DESCRIPTION:The Opening Keynote Address for MetroWest Startup Week will feature social entrepreneurs Andrea Cantania and Aruajo who CoFounded EquiTable in Boston a short time ago. www.equitablefoodsystems.org\n\nFood systems don't just happen they're designed. EquiTable is a food justice nonprofit working to transform how food systems are built through community-driven design\, policy advocacy\, and sustainable infrastructure. Join us to explore how social impact framings can create more just and regenerative food futures.
X-ALT-DESC;FMTTYPE=text/html:<p>The Opening Keynote Address for MetroWest Startup Week will feature social entrepreneurs Andrea Cantania and Aruajo who CoFounded EquiTable in Boston a short time ago.&nbsp\;<a href="https://www.equitablefoodsystems.org/" rel="noopener" style="color: rgb(44\, 46\, 53)\; line-height: 1.4em\; text-decoration: none\;" target="_blank">www.equitablefoodsystems.org</a></p>\n\n<p>Food systems don&rsquo\;t just happen&mdash\;they&rsquo\;re designed. EquiTable is a food justice nonprofit working to transform how food systems are built through community-driven design\, policy advocacy\, and sustainable infrastructure. Join us to explore how social impact framings can create more just and regenerative food futures.</p>\n
LOCATION:McCarthy Center\, Room 1839 at 100 State St Framingham MA 01701
UID:e.1291.11759
SEQUENCE:3
DTSTAMP:20260423T172048Z
URL:https://business.metrowest.org/events/details/reimagining-food-systems-opening-keynote-address-for-metrowest-startup-week-11759
END:VEVENT

END:VCALENDAR
