BEGIN:VCALENDAR
VERSION:2.0
PRODID:-//ChamberMaster//Event Calendar 2.0//EN
METHOD:PUBLISH
X-PUBLISHED-TTL:P3D
REFRESH-INTERVAL:P3D
CALSCALE:GREGORIAN
BEGIN:VEVENT
DTSTART;VALUE=DATE:20260426
DTEND;VALUE=DATE:20260428
TRANSP:TRANSPARENT
X-MICROSOFT-CDO-ALLDAYEVENT:TRUE
SUMMARY:New England Bar And Restaurant Show - A MetroWest Startup Week Pre-Conference Event
DESCRIPTION:A Pre-Conference for MetroWest Startup Week\, join us at the New England Bar and Restaurant Show on Monday the 27th of April in Boston.  Purchase your tickets before the 24th for the $30.00 pricing special\, or on-site for $50.00. \n\nNew England Restaurant & Bar Show is the region's largest restaurant\, bar\, and foodservice event serving both the foodservice and retail sectors. \n\nThe latest products\, services\, and technologies are showcased along with a comprehensive and leading-edge program of education and demonstrations that provides restaurants\, retail\, and foodservice establishments from New England with the best tools to grow and improve their business.\n\nThe two-day show features 300+ exhibitors and brands\, pavilions\, networking\, feature areas\, and dozens of culinary demos and education sessions.\n\nSee the schedule here:  www.newenglandrestaurantbarshow.com
X-ALT-DESC;FMTTYPE=text/html:<p>A Pre-Conference for MetroWest Startup Week\, join us at the New England Bar and Restaurant Show on Monday the 27th of April in Boston.&nbsp\; Purchase your tickets before the 24th for the $30.00 pricing special\, or on-site for $50.00.&nbsp\;</p>\n\n<p>New England Restaurant &amp\; Bar Show is&nbsp\;the region&rsquo\;s largest restaurant\, bar\, and foodservice event serving both the foodservice and retail sectors.&nbsp\;</p>\n\n<p>The latest products\, services\, and technologies are showcased along with a comprehensive and leading-edge program of education and demonstrations that provides restaurants\, retail\, and foodservice establishments from New England with the best tools to grow and improve their business.</p>\n\n<p>The two-day show features 300+ exhibitors and brands\, pavilions\, networking\, feature areas\, and dozens of culinary demos and education sessions.</p>\n\n<p>See the schedule here:&nbsp\;&nbsp\;<a href="https://www.newenglandrestaurantbarshow.com/schedule-at-a-glance" rel="noopener" style="line-height: 1.4em\; text-decoration: none\; color: rgb(44\, 46\, 53)\;" target="_blank" title="https://www.newenglandrestaurantbarshow.com/schedule-at-a-glance">www.newenglandrestaurantbarshow.com&hellip\;</a></p>\n
LOCATION:Thomas Menino Convention and Exhibition Center\,415 Summer st Boston MA 02210
UID:e.1291.11760
SEQUENCE:3
DTSTAMP:20260423T171655Z
URL:https://business.metrowest.org/events/details/new-england-bar-and-restaurant-show-a-metrowest-startup-week-pre-conference-event-11760
END:VEVENT

END:VCALENDAR
