BEGIN:VCALENDAR
VERSION:2.0
PRODID:-//ChamberMaster//Event Calendar 2.0//EN
METHOD:PUBLISH
X-PUBLISHED-TTL:P3D
REFRESH-INTERVAL:P3D
CALSCALE:GREGORIAN
BEGIN:VEVENT
DTSTART;VALUE=DATE:20260501
DTEND;VALUE=DATE:20260502
TRANSP:TRANSPARENT
X-MICROSOFT-CDO-ALLDAYEVENT:TRUE
SUMMARY:Marketing & Media Innovation Day at Framingham State University
DESCRIPTION:Get ready to dive into the latest trends shaking up marketing and social media at MWSW 2026!\n\nAs part of MetroWest Startup Week\, Marketing & Media Innovation Day highlights the trends and strategies shaping today's evolving marketing and media landscape. The event features insights from top-tier speakers representing Boston Globe Media\, Massachusetts institute of Technology (MIT)\, and the American Marketing Association (AMA) Boston.\n\nSessions will be held at the McCarthy Center on the main campus of Framingham State University.
X-ALT-DESC;FMTTYPE=text/html:<p>Get ready to dive into the latest trends shaking up marketing and social media at MWSW 2026!</p>\n\n<p>As part of&nbsp\;MetroWest Startup Week\,&nbsp\;Marketing &amp\; Media Innovation Day&nbsp\;highlights the trends and strategies shaping today&rsquo\;s evolving marketing and media landscape. The event features insights from top-tier speakers representing&nbsp\;Boston Globe Media\,&nbsp\;Massachusetts&nbsp\;institute of Technology (MIT)\, and&nbsp\;the American Marketing Association (AMA) Boston.</p>\n\n<p>Sessions will be held at the&nbsp\;McCarthy Center&nbsp\;on the main campus of&nbsp\;Framingham State University.</p>\n
LOCATION:McCarthy Center - 100 State St\, Framingham 01701
UID:e.1291.11765
SEQUENCE:3
DTSTAMP:20260423T171452Z
URL:https://business.metrowest.org/events/details/marketing-media-innovation-day-at-framingham-state-university-11765
END:VEVENT

END:VCALENDAR
