BEGIN:VCALENDAR
VERSION:2.0
PRODID:-//ChamberMaster//Event Calendar 2.0//EN
METHOD:PUBLISH
X-PUBLISHED-TTL:P3D
REFRESH-INTERVAL:P3D
CALSCALE:GREGORIAN
BEGIN:VEVENT
DTSTART:20260427T190000Z
DTEND:20260427T210000Z
X-MICROSOFT-CDO-ALLDAYEVENT:FALSE
SUMMARY:Framingham Rocks! -- All About Framingham: MetroWest Startup Week Event Pregame to Taste of MetroWest with the Framingham Economic Development Corporation
DESCRIPTION:Framingham is So Cool!\n\nCome and learn all about Framingham in this afternoon before the start of the Taste of MetroWest.\n\n Meet in the HQs of a most interesting local organization. This gathering will be held in the offices of the Framingham Economic Development Corporation at 1661 Worcester Road. This event will include a presentation about Framingham\, and a short one by Equitable Food Systems in case you missed it earlier in the day.\n\nSee more here to connect https://www.linkedin.com/company/framingham-economic-development-corporation
X-ALT-DESC;FMTTYPE=text/html:<p>Framingham is So Cool!</p>\n\n<p>Come and learn all about Framingham in this afternoon before the start of the Taste of MetroWest.</p>\n\n<p>&nbsp\;Meet in the HQs of a most interesting local organization. This gathering will be held in the offices of the Framingham Economic Development Corporation at 1661 Worcester Road. This event will include a presentation about Framingham\, and a short one by Equitable Food Systems in case you missed it earlier in the day.</p>\n\n<p>See more here to connect&nbsp\;<a href="https://www.linkedin.com/company/framingham-economic-development-corporation" rel="noopener" style="line-height: 1.4em\; text-decoration: none\; color: rgb(44\, 46\, 53)\;" target="_blank">https://www.linkedin.com/company/framingham-economic-development-corporation</a></p>\n
LOCATION:Framingham Economic Development Corporation HQs\, 1661 Worcester Road\, Framingham\, MA 01701
UID:e.1291.11761
SEQUENCE:3
DTSTAMP:20260423T172048Z
URL:https://business.metrowest.org/events/details/framingham-rocks-all-about-framingham-metrowest-startup-week-event-pregame-to-taste-of-metrowest-with-the-framingham-economic-development-corporation-11761
END:VEVENT

END:VCALENDAR
