BEGIN:VCALENDAR
VERSION:2.0
PRODID:-//ChamberMaster//Event Calendar 2.0//EN
METHOD:PUBLISH
X-PUBLISHED-TTL:P3D
REFRESH-INTERVAL:P3D
CALSCALE:GREGORIAN
BEGIN:VEVENT
DTSTART;VALUE=DATE:20260430
DTEND;VALUE=DATE:20260501
TRANSP:TRANSPARENT
X-MICROSOFT-CDO-ALLDAYEVENT:TRUE
SUMMARY:Day 4 program MetroWest Startup Week
DESCRIPTION:Daytime program at the Entrepreneur Innovation Center:\n\n\n\n	9am Registration\n	10am Hospitality Startups\, with FSU Hospitality Professor John Palabiyik \n	11am  The Story of the Fireside Tavern and Inn\, Laura Robbins\, Owner-Operator\n	12pm Noon   Keynote:  Jeremy Segal Executive Vice President of Corporate Development\, Progress "Acquiring Startups: A Big Company Perspective"\n	2pm  Panel: Starting and Growing a Cafe with Neelu from Neelu Cafe and Fuel America\, and Julia of FresCafe\n	3pm  The Missing Link in AI\, Ramesh Annavajjala\, EIC Member and Founder of BlueFusion Technologies\n	4pm END
X-ALT-DESC;FMTTYPE=text/html:<p><strong>Daytime program at the Entrepreneur Innovation Center:</strong></p>\n\n<ul><br />\n	<li>9am Registration</li>\n	<li>10am Hospitality Startups\, with FSU Hospitality Professor John Palabiyik&nbsp\;</li>\n	<li>11am&nbsp\; The Story of the Fireside Tavern and Inn\, Laura Robbins\, Owner-Operator</li>\n	<li>12pm Noon&nbsp\; &nbsp\;Keynote:&nbsp\; Jeremy Segal Executive Vice President of Corporate Development\, Progress &quot\;Acquiring Startups: A Big Company Perspective&quot\;</li>\n	<li>2pm&nbsp\; Panel: Starting and Growing a Cafe with Neelu from Neelu Cafe and Fuel America\, and Julia of FresCafe</li>\n	<li>3pm&nbsp\; The Missing Link in AI\, Ramesh&nbsp\;Annavajjala\, EIC Member and Founder of BlueFusion Technologies</li>\n	<li>4pm END</li>\n</ul>\n
LOCATION:McCarthy Center - 100 State St\, Framingham 01701
UID:e.1291.11764
SEQUENCE:3
DTSTAMP:20260423T171349Z
URL:https://business.metrowest.org/events/details/day-4-program-metrowest-startup-week-11764
END:VEVENT

END:VCALENDAR
