BEGIN:VCALENDAR
VERSION:2.0
PRODID:-//ChamberMaster//Event Calendar 2.0//EN
METHOD:PUBLISH
X-PUBLISHED-TTL:P3D
REFRESH-INTERVAL:P3D
CALSCALE:GREGORIAN
BEGIN:VEVENT
DTSTART;VALUE=DATE:20260429
DTEND;VALUE=DATE:20260430
TRANSP:TRANSPARENT
X-MICROSOFT-CDO-ALLDAYEVENT:TRUE
SUMMARY:Day 3 program MetroWest Startup Week
DESCRIPTION:Daytime program at the Entrepreneur Innovation Center:\n\n\n\n	9a Registration\n	9a-11a: Workshop: Entrepreneurship Through Acquisition (ETA) Workshop - eg "How to Buy a Company" with Michael Clouser\, Director of the EIC\n	11a: Keynote: Leverage Your Local Chamber with Reyad Shah\, President of the\n\n	\n\n	MetroWest Chamber of Commerce\n	12p: Workshop: Make Your Own Energy Beverage and Brand: with Marina Andrezi\n	2p: Student Entrepreneurs Tell Their Story: The Vision Behind Jan Scan\, a FSU student startup company!\n	3p: Startup Your Online Presence Like a HotShot - by EIC Member\n\n	\n\n	James Fuedo of JVF Solutions\n	4: Keynote: Repositioning Commercial Real Estate in Cambridge by Real Estate Entrepreneur Will Weiner\n	5p: Emprende con Prop sito\, This session will be held in Spanish: Emprender con prop sitos es conocer los aspectos b sicos al iniciar un negocio\, desarrollar una mentalidad emprendedora que apoye su visi n\, identificar las necesidades con la cual quiere desarrollar su negocio
X-ALT-DESC;FMTTYPE=text/html:<p><strong>Daytime program at the Entrepreneur Innovation Center:</strong></p>\n\n<ul><br />\n	<li>9a Registration</li>\n	<li>9a-11a:&nbsp\;<strong>Workshop: Entrepreneurship Through Acquisition (ETA) Workshop -</strong>&nbsp\;eg &quot\;How to Buy a Company&quot\; with Michael Clouser\, Director of the EIC</li>\n	<li>11a: Keynote: Leverage Your Local Chamber with Reyad Shah\, President of the<br />\n	<br />\n	<strong>MetroWest Chamber of Commerce</strong></li>\n	<li>12p: Workshop:&nbsp\;<strong>Make Your Own Energy Beverage</strong>&nbsp\;and Brand: with&nbsp\;<strong><em>Marina Andrezi</em></strong></li>\n	<li>2p:&nbsp\;<strong>Student Entrepreneurs Tell Their Story</strong>: The Vision Behind Jan Scan\, a FSU student startup company!</li>\n	<li>3p: Startup Your Online Presence Like a HotShot - by EIC Member<br />\n	<br />\n	<strong>James Fuedo of JVF Solutions</strong></li>\n	<li>4: Keynote: Repositioning Commercial Real Estate in Cambridge by Real Estate Entrepreneur&nbsp\;<strong>Will Weiner</strong></li>\n	<li>5p:&nbsp\;<strong>Emprende con Prop&oacute\;sito</strong>\, This session will be held in Spanish: Emprender con prop&oacute\;sitos es conocer los aspectos b&aacute\;sicos al iniciar un negocio\, desarrollar una mentalidad emprendedora que apoye su visi&oacute\;n\, identificar las necesidades con la cual quiere desarrollar su negocio</li>\n</ul>\n
LOCATION:Entrepreneurship Innovation Center: 860 Worcester RD\, Framingham
UID:e.1291.11763
SEQUENCE:3
DTSTAMP:20260423T170855Z
URL:https://business.metrowest.org/events/details/day-3-program-metrowest-startup-week-11763
END:VEVENT

END:VCALENDAR
