BEGIN:VCALENDAR
VERSION:2.0
PRODID:-//ChamberMaster//Event Calendar 2.0//EN
METHOD:PUBLISH
X-PUBLISHED-TTL:P3D
REFRESH-INTERVAL:P3D
CALSCALE:GREGORIAN
BEGIN:VEVENT
DTSTART;VALUE=DATE:20260428
DTEND;VALUE=DATE:20260429
TRANSP:TRANSPARENT
X-MICROSOFT-CDO-ALLDAYEVENT:TRUE
SUMMARY:Day 2 program MetroWest Startup Week
DESCRIPTION:Daytime program at the Entrepreneur Innovation Center:\n\n\n\n	9a Registration\n	10a Legal for Startups with Alumnus and Local Lawyer Michael Gatlin '78\n	11a Why Failing Upwards is the Only Way with Alumnus\, Best-selling Author and EIC Member Peter Andreii\n	12p Keynote: Lou Shipley\, Professor of  HBS and Author of just-published book "Unlikely Entrepreneurs"\n	2p Growing a Restaurant Company with restauranteur Sunil Kolli of Bawarachi\n	3p Tea & Talk on the Innovation Challenge with the Framingham Rotary Club led by Sushil Bhatia - Entrepreneur\, EIC CoFounder and Advisor\, and Suffolk U Professor\, former President of the Rotary Club of Framingham\, and inventor of the water-soluable gluestick\, and subject of an HBS Case study.\n	4p Understand the Aging Process with Alex Wong\,Software Entrepreneur and EIC Member\, Founder of My Care Community\n	5p Non-Profit Arts and Music Startups\, session delivered in Spanish by Z\, Musician and Founder of Associacion Latinoamericana de Musicos y Artistas. The journey of a non-profit for Latina muscicians and artists.\n	6p END of Day Programming\n	See the entire week schedule and register here
X-ALT-DESC;FMTTYPE=text/html:<p><strong>Daytime program at the Entrepreneur Innovation Center:</strong></p>\n\n<ul><br />\n	<li>9a Registration</li>\n	<li>10a Legal for Startups with Alumnus and Local Lawyer&nbsp\;<strong>Michael Gatlin &#39\;78</strong></li>\n	<li>11a Why Failing Upwards is the Only Way with Alumnus\, Best-selling Author and EIC Member&nbsp\;<strong>Peter Andreii</strong></li>\n	<li>12p&nbsp\;<strong>Keynote: Lou Shipley</strong>\, Professor of&nbsp\; HBS and Author of just-published book &quot\;Unlikely Entrepreneurs&quot\;</li>\n	<li>2p Growing a Restaurant Company with restauranteur&nbsp\;<strong>Sunil Kolli of Bawarachi</strong></li>\n	<li>3p&nbsp\;<strong>Tea &amp\; Talk&nbsp\;on the Innovation Challenge</strong>&nbsp\;with the Framingham&nbsp\;<strong>Rotary Club&nbsp\;</strong>led by&nbsp\;<strong>Sushil Bhatia</strong>&nbsp\;- Entrepreneur\, EIC CoFounder and Advisor\, and Suffolk U Professor\, former President of the Rotary Club of Framingham\, and inventor of the water-soluable gluestick\, and subject of an HBS Case study.</li>\n	<li>4p Understand the Aging Process with<strong>&nbsp\;Alex Wong</strong>\,Software Entrepreneur and EIC Member\, Founder of My Care Community</li>\n	<li>5p Non-Profit Arts and Music Startups\, session delivered in&nbsp\;<strong>Spanish</strong>&nbsp\;by Z\, Musician and Founder o<strong>f Associacion Latinoamericana de Musicos y Artistas</strong>. The journey of a non-profit for Latina muscicians and artists.</li>\n	<li>6p END of Day Programming</li>\n	<li>See the entire week schedule and register <a href="https://innovation-fsu.org/metrowest-start-up-week/">here&nbsp\;</a></li>\n</ul>\n
LOCATION:Entrepreneurship Innovation Center: 860 Worcester Rd\, 01702
UID:e.1291.11762
SEQUENCE:3
DTSTAMP:20260423T171308Z
URL:https://business.metrowest.org/events/details/day-2-program-metrowest-startup-week-11762
END:VEVENT

END:VCALENDAR
