BEGIN:VCALENDAR
VERSION:2.0
PRODID:-//ChamberMaster//Event Calendar 2.0//EN
METHOD:PUBLISH
X-PUBLISHED-TTL:P3D
REFRESH-INTERVAL:P3D
CALSCALE:GREGORIAN
BEGIN:VEVENT
DTSTART:20260520T223000Z
DTEND:20260521T000000Z
X-MICROSOFT-CDO-ALLDAYEVENT:FALSE
SUMMARY:Aprenda como criar uma estrategia financeira solida
DESCRIPTION:Junte-se a n s para uma conversa sobre como criar um planejamento financeiro hoje para garantir mais seguran a e conforto no futuro.\n\nVamos falar em portugu s sobre finan as\, prote  o e estrat gias para construir um futuro financeiro est vel.\n\nMeu nome   Fabiana Santos\, sou profissional de finan as\, e ser  um prazer ter voc  conosco neste encontro.\n\n\n\nConhe a nossa anfitri :\n\nSC Cleaning Services\n\nUma empresa liderada por mulher\, com mais de 16 anos de experi ncia\, especializada em limpeza residencial e comercial de alto padr o.\n\nAtendendo com orgulho a regi o de MetroWest\, oferecendo excel ncia nos detalhes\, confian a e um padr o elevado de qualidade.\n\n\n\n\n\nJoin us for a conversation on how to create a financial plan today to ensure greater security and comfort in the future.\n\nWe will speak in Portuguese about finances\, protection\, and strategies to build a stable financial future.\n\nMy name is Fabiana Santos\, I am a financial professional\, and it will be a pleasure to have you join us for this event.\n\n\n\nMeet our host:\n\n\n\nSC Cleaning Services\n\nA woman-owned and operated company with over 16 years of experience\, specializing in high-end residential and commercial cleaning.\n\nProudly serving the MetroWest area\, delivering exceptional attention to detail\, reliability\, and a high standard of quality.
X-ALT-DESC;FMTTYPE=text/html:Junte-se a n&oacute\;s para uma conversa sobre como criar um planejamento financeiro hoje para garantir mais seguran&ccedil\;a e conforto no futuro.<br />\nVamos falar em portugu&ecirc\;s sobre finan&ccedil\;as\, prote&ccedil\;&atilde\;o e estrat&eacute\;gias para construir um futuro financeiro est&aacute\;vel.<br />\nMeu nome &eacute\; Fabiana Santos\, sou profissional de finan&ccedil\;as\, e ser&aacute\; um prazer ter voc&ecirc\; conosco neste encontro.<br />\n<br />\nConhe&ccedil\;a nossa anfitri&atilde\;:<br />\nSC Cleaning Services<br />\nUma empresa liderada por mulher\, com mais de 16 anos de experi&ecirc\;ncia\, especializada em limpeza residencial e comercial de alto padr&atilde\;o.<br />\nAtendendo com orgulho a regi&atilde\;o de MetroWest\, oferecendo excel&ecirc\;ncia nos detalhes\, confian&ccedil\;a e um padr&atilde\;o elevado de qualidade.<br />\n<br />\n<br />\nJoin us for a conversation on how to create a financial plan today to ensure greater security and comfort in the future.<br />\nWe will speak in Portuguese about finances\, protection\, and strategies to build a stable financial future.<br />\nMy name is Fabiana Santos\, I am a financial professional\, and it will be a pleasure to have you join us for this event.<br />\n<br />\nMeet our host:<br />\n<br />\nSC Cleaning Services<br />\nA woman-owned and operated company with over 16 years of experience\, specializing in high-end residential and commercial cleaning.<br />\nProudly serving the MetroWest area\, delivering exceptional attention to detail\, reliability\, and a high standard of quality.
LOCATION:SC Cleaning Services Office 188 Oaks Rd Framingham 01702
UID:e.1291.11758
SEQUENCE:3
DTSTAMP:20260421T193457Z
URL:https://business.metrowest.org/events/details/aprenda-como-criar-uma-estrategia-financeira-solida-11758
END:VEVENT

END:VCALENDAR
